Workbook

Sheet 원가계산서
A1: 원 가 계 산 서
A2: 비 목 | D2: 구 분 | E2: 금 액 | F2: 요 율 | G2: 산 출 근 거
A3: 순 공 사 원 가 | B3: 재 료 비 | C3: 직접재료비 | D3: (1) | E3: =집계표!H23 -> 0
C4: 간접재료비 | D4: (2)
C5: 소 계 | D5: A | E5: =SUM(E3:E4) -> 0 | G5: (1 + 2)
B6: 노 무 비 | C6: 직접노무비 | D6: (3) | E6: =집계표!J23 -> 0
C7: 간접노무비 | D7: (4)
C8: 소 계 | D8: B | E8: =SUM(E6:E7) -> 0 | G8: (3 + 4)
B9: 경 비 | C9: 산출경비 | D9: (5) | E9: 0
C10: 산재보험료 | D10: (6) | E10: =E8*F10 -> 0 | F10: 0.0356 | G10: B * 3.56%
C11: 고용보험료 | D11: (7) | E11: =E8*F11 -> 0 | F11: 0.0101 | G11: B * 1.01%
C12: 건강보험료 | D12: (8) | E12: =E8*F12 -> 0 | F12: 0.03595 | G12: B * 3.595%
C13: 연금보험료 | D13: (9) | E13: =E8*F13 -> 0 | F13: 0.0475 | G13: B * 4.75%
C14: 노인장기요양보험료 | D14: (10) | E14: =E12*F14 -> 0 | F14: 0.1314 | G14: (8) * 13.14%
C15: 산업안전보건관리비 | D15: (11) | E15: =((E5+E8)*F15) -> 0 | F15: 0.0311 | G15: (A + B) * 3.11% | H15: 5억 미만 : 3.11% / 5억 이상 : 2.28%
C16: 환경보전비 | D16: (12) | E16: =(E5+E8)*F16 -> 0 | F16: 0.003 | G16: (A + B) * 0.3%
C17: 퇴직공제부금비 | D17: (13) | E17: 0
C18: 건설기계대여 지급보증액 | D18: (14) | E18: 0
C19: 기타경비 | D19: (15) | E19: =INT((E5+E8)*F19) -> 0 | F19: 0.035 | G19: (A + B) X 0.046 이내
C20: 소 계 | D20: C | E20: =SUM(E9:E19) -> 0 | G20: (5 : 15)
B21: 순공사원가 | D21: D | E21: =E5+E8+E20 -> 0 | G21: (A + B + C)
B22: 일반관리비 | D22: E | E22: =INT(E21*5%) -> 0 | F22: 0.05 | G22: D X 5%
B23: 이윤 | D23: F | E23: =INT((E8+E20+E22)*10%) -> 0 | F23: 0.1 | G23: (B + C + E) X 10%
B24: 총원가 | D24: G | E24: =E21+E22+E23 -> 0 | G24: (D + E + F)
B25: 부가가치세 | D25: H | E25: =INT(E24*10%) -> 0 | F25: 0.1 | G25: G X 10%
B26: 도급액 | D26: I | E26: =E24+E25 -> 0 | G26: (G + H)
B27: 폐기물처리비 | D27: J | E27: 4550000
B28: 단수정리 | D28: K
B29: 총공사비 | D29: L | E29: =(E26+E27+E28)+E30 -> 4550000 | G29: (I + J + K)
B30: 디자인+설계비용 | E30: =E21*F30 -> 0 | F30: 0.05 | G30: C X 5% / 아베크디자인

Sheet 집계표
C1: [공사명] 영상센터 확장 및 공단검진센터 신설공사
A2: 공종 | B2: 코드 | C2: 품 명 | D2: 규 격 | E2: 단위 | F2: BM내역서 | O2: 비고
F3: 수량 | G3: 재 료 비 | I3: 노 무 비 | K3: 경 비 | M3: 합 계
G4: 단가 | H4: 금액 | I4: 단가 | J4: 금액 | K4: 단가 | L4: 금액 | M4: 단가 | N4: 금액
C5: [직접공사비]
C6: =내역서!C7 -> 1. 공통 공사 | H6: =내역서!H12 -> 0 | J6: =내역서!J12 -> 0 | L6: =내역서!L12 -> 0 | N6: =+H6+J6+L6 -> 0
C7: =내역서!C13 -> 2. 건축공사 | H7: =내역서!H367 -> 0 | J7: =내역서!J367 -> 0 | L7: 0 | N7: =+H7+J7+L7 -> 0
C8: =내역서!C368 -> 3. 전기, 통신 공사 | H8: =내역서!H396 -> 0 | J8: =내역서!J396 -> 0 | L8: =내역서!L396 -> 0 | N8: =+H8+J8+L8 -> 0
C9: =내역서!C398 -> 4. 기계설비 공사 | H9: =내역서!H441 -> 0 | J9: =내역서!J441 -> 0 | L9: =내역서!L441 -> 0 | N9: =+H9+J9+L9 -> 0
C10: =내역서!C442 -> 5. 위생설비공사 | H10: =내역서!H447 -> 0 | J10: =내역서!J447 -> 0 | L10: =내역서!L447 -> 0 | N10: =+H10+J10+L10 -> 0
C23: [ 합 계 ] | H23: =SUM(H5:H22) -> 0 | J23: =SUM(J5:J22) -> 0 | L23: =SUM(L5:L22) -> 0 | N23: =H23+J23+L23 -> 0

Sheet 내역서
C1: [공사명] 영상센터 확장 및 공단검진센터 신설공사
C2: [안내사항] '* 폐기물 처리비는 간접비목으로 향후 정산항목 * 현장 정리정돈/현장보양은 일반관리비 및 기타경비 항목으로 향후 정산항목 * 수량 변경 및 아이템 추가가 필요할 경우 색 표시 후 기입 바랍니다. * 철거는 발주처 진행중 / 공사시 추가 철거가 필요할경우 항목에 추가 바랍니다. (현장 확인 가능)
A3: 공종 | B3: 코드 | C3: 품 명 | D3: 규 격 | E3: 단위 | F3: BM내역서 | O3: 비고
F4: 수량 | G4: 재 료 비 | I4: 노 무 비 | K4: 경 비 | M4: 합 계
G5: 단가 | H5: 금액 | I5: 단가 | J5: 금액 | K5: 단가 | L5: 금액 | M5: 단가 | N5: 금액
C6: [3F 영상센터 확장 및 공단검진센터 신설공사]
C7: 1. 공통 공사
A8: 010111 | B8: Z1230001079 | C8: 먹메김 | E8: ㎡ | F8: 540.86 | G8: 0 | H8: =G8*F8 -> 0 | J8: =I8*F8 -> 0 | L8: =+TRUNC(F8*K8) -> 0 | M8: =G8+I8+K8 -> 0 | N8: =H8+J8+L8 -> 0
A9: 010111 | B9: Z1230001136 | C9: 준공청소 | D9: 1회기준 | E9: ㎡ | F9: 540.86 | G9: 0 | H9: =G9*F9 -> 0 | J9: =I9*F9 -> 0 | L9: =+TRUNC(F9*K9) -> 0 | M9: =G9+I9+K9 -> 0 | N9: =H9+J9+L9 -> 0
A10: 010111 | B10: Z1230001116 | C10: 자재대운반/장비 | E10: ㎡ | F10: 541 | G10: 0 | H10: =G10*F10 -> 0 | J10: =I10*F10 -> 0 | L10: =+TRUNC(F10*K10) -> 0 | M10: =G10+I10+K10 -> 0 | N10: =H10+J10+L10 -> 0
C11: 자재소운반/인력 | E11: ㎡ | F11: 540.86 | G11: 0 | H11: =G11*F11 -> 0 | J11: =I11*F11 -> 0 | L11: =+TRUNC(F11*K11) -> 0 | M11: =G11+I11+K11 -> 0 | N11: =H11+J11+L11 -> 0
C12: 0. 공통공사 소계 | H12: =SUM(H8:H11) -> 0 | J12: =SUM(J8:J11) -> 0 | L12: =SUM(L8:L11) -> 0 | N12: =H12+J12+L12 -> 0
C13: 2. 건축공사
C14: [공통]
C15: * 천정
A16: 010111 | B16: Z1230001079 | C16: 경량천장철골틀 설치 | D16: M-BAR, 인서트 유 | E16: ㎡ | F16: =174.81+239.02+23.69 -> 437.52 | H16: =G16*F16 -> 0 | J16: =I16*F16 -> 0 | L16: =+TRUNC(F16*K16) -> 0 | M16: =G16+I16+K16 -> 0 | N16: =H16+J16+L16 -> 0
C17: 석고보드 취부 | D17: 9.5T 단면 2p | E17: ㎡ | F17: =174.81+239.02+23.69 -> 437.52 | H17: =G17*F17 -> 0 | J17: =I17*F17 -> 0 | L17: =+TRUNC(F17*K17) -> 0 | M17: =G17+I17+K17 -> 0 | N17: =H17+J17+L17 -> 0
A18: 010111 | B18: Z1230001117 | C18: 점검구 설치 | D18: G/A STL. 450*450 | E18: EA | F18: 30 | H18: =G18*F18 -> 0 | J18: =I18*F18 -> 0 | L18: =+TRUNC(F18*K18) -> 0 | M18: =G18+I18+K18 -> 0 | N18: =H18+J18+L18 -> 0
C19: * 벽체
A20: 010111 | B20: Z1230001079 | C20: 경량벽체철골틀 설치 | D20: C-STUD (65*45) H=3.5M이하 | E20: M | F20: 155 | H20: =G20*F20 -> 0 | J20: =I20*F20 -> 0 | L20: =+TRUNC(F20*K20) -> 0 | M20: =G20+I20+K20 -> 0 | N20: =H20+J20+L20 -> 0
C21: 방화 석고보드 취부 | D21: 12.5T 양면 2P (신설용) | E21: ㎡ | F21: 420 | H21: =G21*F21 -> 0 | J21: =I21*F21 -> 0 | L21: =+TRUNC(F21*K21) -> 0 | M21: =G21+I21+K21 -> 0 | N21: =H21+J21+L21 -> 0
C22: 방화 석고보드 취부 | D22: 12.5T 단면 1P (보수용) | E22: ㎡ | F22: 150 | H22: =G22*F22 -> 0 | J22: =I22*F22 -> 0 | L22: =+TRUNC(F22*K22) -> 0 | M22: =G22+I22+K22 -> 0 | N22: =H22+J22+L22 -> 0
C23: 유리섬유보온재(그라스울) | D23: G/W 24K 50T | E23: ㎡ | F23: 155 | H23: =G23*F23 -> 0 | J23: =I23*F23 -> 0 | L23: =+TRUNC(F23*K23) -> 0 | M23: =G23+I23+K23 -> 0 | N23: =H23+J23+L23 -> 0
C24: * 기타
C25: 이동형 접수데스크 | E25: EA | F25: 1 | G25: 0 | H25: =G25*F25 -> 0 | J25: =I25*F25 -> 0 | L25: =+TRUNC(F25*K25) -> 0 | M25: =G25+I25+K25 -> 0 | N25: =H25+J25+L25 -> 0
C26: [ 소 계 ] | H26: =SUM(H15:H25) -> 0 | J26: =SUM(J15:J25) -> 0 | L26: =SUM(L25:L25) -> 0 | N26: =H26+J26+L26 -> 0
C27: [복도-3]
C28: * 천정
A29: 010111 | B29: Z1230001117 | C29: 친환경 도장 마감 | D29: 내부, 2회 1급 '석고보드면 올퍼티 | E29: ㎡ | F29: 74.11 | H29: =G29*F29 -> 0 | J29: =I29*F29 -> 0 | L29: =+TRUNC(F29*K29) -> 0 | M29: =G29+I29+K29 -> 0 | N29: =H29+J29+L29 -> 0
C30: [ 소 계 ] | H30: =SUM(H29:H29) -> 0 | J30: =SUM(J29:J29) -> 0 | L30: =SUM(L29:L29) -> 0 | N30: =H30+J30+L30 -> 0
C31: [MRI센터-대기공간]
C32: * 천정
A33: 010111 | B33: Z1230001117 | C33: 친환경 도장 마감 | D33: 내부, 2회 1급 '석고보드면 올퍼티 | E33: ㎡ | F33: 34.46 | H33: =G33*F33 -> 0 | J33: =I33*F33 -> 0 | L33: =+TRUNC(F33*K33) -> 0 | M33: =G33+I33+K33 -> 0 | N33: =H33+J33+L33 -> 0
C34: 방화자동문 상부 보강 (각파이프) | D34: ST'L ㅁ 30*30 (방청) | E34: M | F34: 6 | H34: =G34*F34 -> 0 | J34: =I34*F34 -> 0 | L34: =+TRUNC(F34*K34) -> 0 | M34: =G34+I34+K34 -> 0 | N34: =H34+J34+L34 -> 0
A35: 010111 | B35: Z1230001117 | C35: 간접등박스 조성 | D35: STL / 도장유 | E35: M | F35: =6.4+1.7+11.3 -> 19.4 | H35: =G35*F35 -> 0 | J35: =I35*F35 -> 0 | L35: =+TRUNC(F35*K35) -> 0 | M35: =G35+I35+K35 -> 0 | N35: =H35+J35+L35 -> 0
A36: 010111 | B36: Z1230001117 | C36: 간접조명 | D36: LED T-5, KS (1200) | E36: EA | F36: =28/0.9 -> 31.111111 | H36: =G36*F36 -> 0 | J36: =I36*F36 -> 0 | L36: =+TRUNC(F36*K36) -> 0 | M36: =G36+I36+K36 -> 0 | N36: =H36+J36+L36 -> 0
C37: 다운라이트 (매입) | D37: LED COB 3" / 주백색 / KS | E37: EA | F37: 46 | H37: =G37*F37 -> 0 | J37: =I37*F37 -> 0 | L37: =+TRUNC(F37*K37) -> 0 | M37: =G37+I37+K37 -> 0 | N37: =H37+J37+L37 -> 0
C38: * 벽체
C39: 방화자동문 | D39: 2,600*2,700, 무선터치, 지정칼라도장 | E39: EA | F39: 1 | H39: =G39*F39 -> 0 | J39: =I39*F39 -> 0 | L39: =+TRUNC(F39*K39) -> 0 | M39: =G39+I39+K39 -> 0 | N39: =H39+J39+L39 -> 0
C40: 방화자동문 파사드 벽체 조성 | D40: ST'L ㅁ 30*30 + ST'L 1.5T | E40: 개소 | F40: 1 | H40: =G40*F40 -> 0 | J40: =I40*F40 -> 0 | M40: =G40+I40+K40 -> 0 | N40: =H40+J40+L40 -> 0
...
