Workbook

Sheet 원가계산서
A1: 원 가 계 산 서
A2: 비 목 | D2: 구 분 | E2: 금 액 | F2: 요 율 | G2: 산 출 근 거
A3: 순 공 사 원 가 | B3: 재 료 비 | C3: 직접재료비 | D3: (1) | E3: =집계표!H23 -> 0
C4: 간접재료비 | D4: (2)
C5: 소 계 | D5: A | E5: =SUM(E3:E4) -> 0 | G5: (1 + 2)
B6: 노 무 비 | C6: 직접노무비 | D6: (3) | E6: =집계표!J23 -> 0
C7: 간접노무비 | D7: (4)
C8: 소 계 | D8: B | E8: =SUM(E6:E7) -> 0 | G8: (3 + 4)
B9: 경 비 | C9: 산출경비 | D9: (5) | E9: 0
C10: 산재보험료 | D10: (6) | E10: =E8*F10 -> 0 | F10: 0.0356 | G10: B * 3.56%
C11: 고용보험료 | D11: (7) | E11: =E8*F11 -> 0 | F11: 0.0101 | G11: B * 1.01%
C12: 건강보험료 | D12: (8) | E12: =E8*F12 -> 0 | F12: 0.03595 | G12: B * 3.595%
C13: 연금보험료 | D13: (9) | E13: =E8*F13 -> 0 | F13: 0.0475 | G13: B * 4.75%
C14: 노인장기요양보험료 | D14: (10) | E14: =E12*F14 -> 0 | F14: 0.1314 | G14: (8) * 13.14%
C15: 산업안전보건관리비 | D15: (11) | E15: =((E5+E8)*F15) -> 0 | F15: 0.0311 | G15: (A + B) * 3.11% | H15: 5억 미만 : 3.11% / 5억 이상 : 2.28%
C16: 환경보전비 | D16: (12) | E16: =(E5+E8)*F16 -> 0 | F16: 0.003 | G16: (A + B) * 0.3%
C17: 퇴직공제부금비 | D17: (13) | E17: 0
C18: 건설기계대여 지급보증액 | D18: (14) | E18: 0
C19: 기타경비 | D19: (15) | E19: =INT((E5+E8)*F19) -> 0 | F19: 0.035 | G19: (A + B) X 0.046 이내
C20: 소 계 | D20: C | E20: =SUM(E9:E19) -> 0 | G20: (5 : 15)
B21: 순공사원가 | D21: D | E21: =E5+E8+E20 -> 0 | G21: (A + B + C)
B22: 일반관리비 | D22: E | E22: =INT(E21*5%) -> 0 | F22: 0.05 | G22: D X 5%
B23: 이윤 | D23: F | E23: =INT((E8+E20+E22)*10%) -> 0 | F23: 0.1 | G23: (B + C + E) X 10%
B24: 총원가 | D24: G | E24: =E21+E22+E23 -> 0 | G24: (D + E + F)
B25: 부가가치세 | D25: H | E25: =INT(E24*10%) -> 0 | F25: 0.1 | G25: G X 10%
B26: 도급액 | D26: I | E26: =E24+E25 -> 0 | G26: (G + H)
B27: 폐기물처리비 | D27: J | E27: 4550000
B28: 단수정리 | D28: K
B29: 총공사비 | D29: L | E29: =(E26+E27+E28)+E30 -> 4550000 | G29: (I + J + K)
B30: 디자인+설계비용 | E30: =E21*F30 -> 0 | F30: 0.05 | G30: C X 5% / 아베크디자인

Sheet 집계표
C1: [공사명] 영상센터 확장 및 공단검진센터 신설공사
A2: 공종 | B2: 코드 | C2: 품 명 | D2: 규 격 | E2: 단위 | F2: BM내역서 | O2: 비고
F3: 수량 | G3: 재 료 비 | I3: 노 무 비 | K3: 경 비 | M3: 합 계
G4: 단가 | H4: 금액 | I4: 단가 | J4: 금액 | K4: 단가 | L4: 금액 | M4: 단가 | N4: 금액
C5: [직접공사비]
C6: =내역서!C7 -> 1. 공통 공사 | H6: =내역서!H12 -> 0 | J6: =내역서!J12 -> 0 | L6: =내역서!L12 -> 0 | N6: =+H6+J6+L6 -> 0
C7: =내역서!C13 -> 2. 건축공사 | H7: =내역서!H367 -> 0 | J7: =내역서!J367 -> 0 | L7: 0 | N7: =+H7+J7+L7 -> 0
C8: =내역서!C368 -> 3. 전기, 통신 공사 | H8: =내역서!H396 -> 0 | J8: =내역서!J396 -> 0 | L8: =내역서!L396 -> 0 | N8: =+H8+J8+L8 -> 0
C9: =내역서!C398 -> 4. 기계설비 공사 | H9: =내역서!H441 -> 0 | J9: =내역서!J441 -> 0 | L9: =내역서!L441 -> 0 | N9: =+H9+J9+L9 -> 0
C10: =내역서!C442 -> 5. 위생설비공사 | H10: =내역서!H447 -> 0 | J10: =내역서!J447 -> 0 | L10: =내역서!L447 -> 0 | N10: =+H10+J10+L10 -> 0
C23: [ 합 계 ] | H23: =SUM(H5:H22) -> 0 | J23: =SUM(J5:J22) -> 0 | L23: =SUM(L5:L22) -> 0 | N23: =H23+J23+L23 -> 0

Sheet 내역서
C1: [공사명] 영상센터 확장 및 공단검진센터 신설공사
C2: [안내사항] '* 폐기물 처리비는 간접비목으로 향후 정산항목 * 현장 정리정돈/현장보양은 일반관리비 및 기타경비 항목으로 향후 정산항목 * 수량 변경 및 아이템 추가가 필요할 경우 색 표시 후 기입 바랍니다. * 철거는 발주처 진행중 / 공사시 추가 철거가 필요할경우 항목에 추가 바랍니다. (현장 확인 가능)
A3: 공종 | B3: 코드 | C3: 품 명 | D3: 규 격 | E3: 단위 | F3: BM내역서 | O3: 비고
F4: 수량 | G4: 재 료 비 | I4: 노 무 비 | K4: 경 비 | M4: 합 계
G5: 단가 | H5: 금액 | I5: 단가 | J5: 금액 | K5: 단가 | L5: 금액 | M5: 단가 | N5: 금액
C6: [3F 영상센터 확장 및 공단검진센터 신설공사]
C7: 1. 공통 공사
A8: 010111 | B8: Z1230001079 | C8: 먹메김 | E8: ㎡ | F8: 540.86 | G8: 0 | H8: =G8*F8 -> 0 | J8: =I8*F8 -> 0 | L8: =+TRUNC(F8*K8) -> 0 | M8: =G8+I8+K8 -> 0 | N8: =H8+J8+L8 -> 0
A9: 010111 | B9: Z1230001136 | C9: 준공청소 | D9: 1회기준 | E9: ㎡ | F9: 540.86 | G9: 0 | H9: =G9*F9 -> 0 | J9: =I9*F9 -> 0 | L9: =+TRUNC(F9*K9) -> 0 | M9: =G9+I9+K9 -> 0 | N9: =H9+J9+L9 -> 0
A10: 010111 | B10: Z1230001116 | C10: 자재대운반/장비 | E10: ㎡ | F10: 541 | G10: 0 | H10: =G10*F10 -> 0 | J10: =I10*F10 -> 0 | L10: =+TRUNC(F10*K10) -> 0 | M10: =G10+I10+K10 -> 0 | N10: =H10+J10+L10 -> 0
C11: 자재소운반/인력 | E11: ㎡ | F11: 540.86 | G11: 0 | H11: =G11*F11 -> 0 | J11: =I11*F11 -> 0 | L11: =+TRUNC(F11*K11) -> 0 | M11: =G11+I11+K11 -> 0 | N11: =H11+J11+L11 -> 0
C12: 0. 공통공사 소계 | H12: =SUM(H8:H11) -> 0 | J12: =SUM(J8:J11) -> 0 | L12: =SUM(L8:L11) -> 0 | N12: =H12+J12+L12 -> 0
C13: 2. 건축공사
C14: [공통]
C15: * 천정
A16: 010111 | B16: Z1230001079 | C16: 경량천장철골틀 설치 | D16: M-BAR, 인서트 유 | E16: ㎡ | F16: =174.81+239.02+23.69 -> 437.52 | H16: =G16*F16 -> 0 | J16: =I16*F16 -> 0 | L16: =+TRUNC(F16*K16) -> 0 | M16: =G16+I16+K16 -> 0 | N16: =H16+J16+L16 -> 0
C17: 석고보드 취부 | D17: 9.5T 단면 2p | E17: ㎡ | F17: =174.81+239.02+23.69 -> 437.52 | H17: =G17*F17 -> 0 | J17: =I17*F17 -> 0 | L17: =+TRUNC(F17*K17) -> 0 | M17: =G17+I17+K17 -> 0 | N17: =H17+J17+L17 -> 0
A18: 010111 | B18: Z1230001117 | C18: 점검구 설치 | D18: G/A STL. 450*450 | E18: EA | F18: 30 | H18: =G18*F18 -> 0 | J18: =I18*F18 -> 0 | L18: =+TRUNC(F18*K18) -> 0 | M18: =G18+I18+K18 -> 0 | N18: =H18+J18+L18 -> 0
C19: * 벽체
A20: 010111 | B20: Z1230001079 | C20: 경량벽체철골틀 설치 | D20: C-STUD (65*45) H=3.5M이하 | E20: M | F20: 155 | H20: =G20*F20 -> 0 | J20: =I20*F20 -> 0 | L20: =+TRUNC(F20*K20) -> 0 | M20: =G20+I20+K20 -> 0 | N20: =H20+J20+L20 -> 0
C21: 방화 석고보드 취부 | D21: 12.5T 양면 2P (신설용) | E21: ㎡ | F21: 420 | H21: =G21*F21 -> 0 | J21: =I21*F21 -> 0 | L21: =+TRUNC(F21*K21) -> 0 | M21: =G21+I21+K21 -> 0 | N21: =H21+J21+L21 -> 0
C22: 방화 석고보드 취부 | D22: 12.5T 단면 1P (보수용) | E22: ㎡ | F22: 150 | H22: =G22*F22 -> 0 | J22: =I22*F22 -> 0 | L22: =+TRUNC(F22*K22) -> 0 | M22: =G22+I22+K22 -> 0 | N22: =H22+J22+L22 -> 0
C23: 유리섬유보온재(그라스울) | D23: G/W 24K 50T | E23: ㎡ | F23: 155 | H23: =G23*F23 -> 0 | J23: =I23*F23 -> 0 | L23: =+TRUNC(F23*K23) -> 0 | M23: =G23+I23+K23 -> 0 | N23: =H23+J23+L23 -> 0
C24: * 기타
C25: 이동형 접수데스크 | E25: EA | F25: 1 | G25: 0 | H25: =G25*F25 -> 0 | J25: =I25*F25 -> 0 | L25: =+TRUNC(F25*K25) -> 0 | M25: =G25+I25+K25 -> 0 | N25: =H25+J25+L25 -> 0
C26: [ 소 계 ] | H26: =SUM(H15:H25) -> 0 | J26: =SUM(J15:J25) -> 0 | L26: =SUM(L25:L25) -> 0 | N26: =H26+J26+L26 -> 0
C27: [복도-3]
C28: * 천정
A29: 010111 | B29: Z1230001117 | C29: 친환경 도장 마감 | D29: 내부, 2회 1급 '석고보드면 올퍼티 | E29: ㎡ | F29: 74.11 | H29: =G29*F29 -> 0 | J29: =I29*F29 -> 0 | L29: =+TRUNC(F29*K29) -> 0 | M29: =G29+I29+K29 -> 0 | N29: =H29+J29+L29 -> 0
C30: [ 소 계 ] | H30: =SUM(H29:H29) -> 0 | J30: =SUM(J29:J29) -> 0 | L30: =SUM(L29:L29) -> 0 | N30: =H30+J30+L30 -> 0
C31: [MRI센터-대기공간]
C32: * 천정
A33: 010111 | B33: Z1230001117 | C33: 친환경 도장 마감 | D33: 내부, 2회 1급 '석고보드면 올퍼티 | E33: ㎡ | F33: 34.46 | H33: =G33*F33 -> 0 | J33: =I33*F33 -> 0 | L33: =+TRUNC(F33*K33) -> 0 | M33: =G33+I33+K33 -> 0 | N33: =H33+J33+L33 -> 0
C34: 방화자동문 상부 보강 (각파이프) | D34: ST'L ㅁ 30*30 (방청) | E34: M | F34: 6 | H34: =G34*F34 -> 0 | J34: =I34*F34 -> 0 | L34: =+TRUNC(F34*K34) -> 0 | M34: =G34+I34+K34 -> 0 | N34: =H34+J34+L34 -> 0
A35: 010111 | B35: Z1230001117 | C35: 간접등박스 조성 | D35: STL / 도장유 | E35: M | F35: =6.4+1.7+11.3 -> 19.4 | H35: =G35*F35 -> 0 | J35: =I35*F35 -> 0 | L35: =+TRUNC(F35*K35) -> 0 | M35: =G35+I35+K35 -> 0 | N35: =H35+J35+L35 -> 0
A36: 010111 | B36: Z1230001117 | C36: 간접조명 | D36: LED T-5, KS (1200) | E36: EA | F36: =28/0.9 -> 31.111111 | H36: =G36*F36 -> 0 | J36: =I36*F36 -> 0 | L36: =+TRUNC(F36*K36) -> 0 | M36: =G36+I36+K36 -> 0 | N36: =H36+J36+L36 -> 0
C37: 다운라이트 (매입) | D37: LED COB 3" / 주백색 / KS | E37: EA | F37: 46 | H37: =G37*F37 -> 0 | J37: =I37*F37 -> 0 | L37: =+TRUNC(F37*K37) -> 0 | M37: =G37+I37+K37 -> 0 | N37: =H37+J37+L37 -> 0
C38: * 벽체
C39: 방화자동문 | D39: 2,600*2,700, 무선터치, 지정칼라도장 | E39: EA | F39: 1 | H39: =G39*F39 -> 0 | J39: =I39*F39 -> 0 | L39: =+TRUNC(F39*K39) -> 0 | M39: =G39+I39+K39 -> 0 | N39: =H39+J39+L39 -> 0
C40: 방화자동문 파사드 벽체 조성 | D40: ST'L ㅁ 30*30 + ST'L 1.5T | E40: 개소 | F40: 1 | H40: =G40*F40 -> 0 | J40: =I40*F40 -> 0 | M40: =G40+I40+K40 -> 0 | N40: =H40+J40+L40 -> 0
C41: 내부 천연대리석마감 | D41: 다이노임페리얼 / 1800*2800, 20T | E41: 장 | F41: =(3.7/1.8)+1 -> 3.0555556 | H41: =G41*F41 -> 0 | J41: =I41*F41 -> 0 | L41: =+TRUNC(F41*K41) -> 0 | M41: =G41+I41+K41 -> 0 | N41: =H41+J41+L41 -> 0
C42: 내부 천연대리석 시공 | E42: 인 | F42: 6 | J42: =I42*F42 -> 0 | M42: =G42+I42+K42 -> 0 | N42: =H42+J42+L42 -> 0
C43: MDF 붙임 | D43: THK9*1PLY | E43: ㎡ | F43: =(1*2.7)+(1*2.7)+(1.7*2.7)+(1.5*2.7)+(4*2.7) -> 24.84 | H43: =G43*F43 -> 0 | J43: =I43*F43 -> 0 | L43: =+TRUNC(F43*K43) -> 0 | M43: =G43+I43+K43 -> 0 | N43: =H43+J43+L43 -> 0
C44: 필름마감 | D44: 지정 방염필름 | E44: ㎡ | F44: =(1*2.7)+(1*2.7)+(1.7*2.7)+(1.5*2.7)+(4*2.7)+(2.7*2.7) -> 32.13 | H44: =G44*F44 -> 0 | J44: =I44*F44 -> 0 | L44: =+TRUNC(F44*K44) -> 0 | M44: =G44+I44+K44 -> 0 | N44: =H44+J44+L44 -> 0
C45: 벽체도장 | D45: ALL PUTTY, 베네치안, 코팅제포함 | E45: ㎡ | F45: =(11.3*2.7)+(4*2.7) -> 41.31 | H45: =G45*F45 -> 0 | J45: =I45*F45 -> 0 | L45: =+TRUNC(F45*K45) -> 0 | M45: =G45+I45+K45 -> 0 | N45: =H45+J45+L45 -> 0
C46: 내부 걸레받이 (PVC) | D46: H:40, 지정 필름 마감 포함 | E46: M | F46: =4+11.3+1.5+4+1.7+1+0.8+2.7 -> 27 | H46: =G46*F46 -> 0 | J46: =I46*F46 -> 0 | L46: =+TRUNC(F46*K46) -> 0 | M46: =G46+I46+K46 -> 0 | N46: =H46+J46+L46 -> 0
C47: * 바닥
A48: 010111 | B48: Z1230001117 | C48: 포세린타일 [아이보리] | D48: 600*600, S-SA IV | E48: ㎡ | F48: 23.67 | H48: =G48*F48 -> 0 | J48: =I48*F48 -> 0 | L48: =+TRUNC(F48*K48) -> 0 | M48: =G48+I48+K48 -> 0 | N48: =H48+J48+L48 -> 0
A49: 010111 | B49: Z1230001117 | C49: 포세린타일 [라이트그레이] | D49: 600*600, S-SA LG | E49: ㎡ | F49: 10.77 | H49: =G49*F49 -> 0 | J49: =I49*F49 -> 0 | L49: =+TRUNC(F49*K49) -> 0 | M49: =G49+I49+K49 -> 0 | N49: =H49+J49+L49 -> 0
A50: 010111 | B50: Z1230001117 | C50: 타일부자재 | D50: 압착,백시멘트,케라폭시 메지 등 | E50: ㎡ | F50: =F48+F49 -> 34.44 | H50: =G50*F50 -> 0 | J50: =I50*F50 -> 0 | L50: =+TRUNC(F50*K50) -> 0 | M50: =G50+I50+K50 -> 0 | N50: =H50+J50+L50 -> 0
C51: * 기타
C52: 소, 대대합 벽체 조성 | D52: 대기공간 55" 대대합(홍보모니터) | E52: EA | F52: 2 | H52: =G52*F52 -> 0 | J52: =I52*F52 -> 0 | L52: =+TRUNC(F52*K52) -> 0 | M52: =G52+I52+K52 -> 0 | N52: =H52+J52+L52 -> 0
C53: [ 소 계 ] | H53: =SUM(H33:H52) -> 0 | J53: =SUM(J33:J52) -> 0 | L53: =SUM(L50:L50) -> 0 | N53: =H53+J53+L53 -> 0
C54: [MRI센터-탈의 남,녀]
C55: * 천정
A56: 010111 | B56: Z1230001117 | C56: 친환경 도장 마감 | D56: 내부, 2회 1급 '석고보드면 올퍼티 | E56: ㎡ | F56: =3.61+3.61 -> 7.22 | H56: =G56*F56 -> 0 | J56: =I56*F56 -> 0 | L56: =+TRUNC(F56*K56) -> 0 | M56: =G56+I56+K56 -> 0 | N56: =H56+J56+L56 -> 0
C57: AL 몰딩 설치 | E57: M | H57: =G57*F57 -> 0 | J57: =I57*F57 -> 0 | M57: =G57+I57+K57 -> 0 | N57: =H57+J57+L57 -> 0
C58: 다운라이트 (매입) | D58: LED 6" / 주백색 / KS | E58: EA | F58: 8 | H58: =G58*F58 -> 0 | J58: =I58*F58 -> 0 | L58: =+TRUNC(F58*K58) -> 0 | M58: =G58+I58+K58 -> 0 | N58: =H58+J58+L58 -> 0
C59: * 벽체
A60: 010111 | B60: Z1230001117 | C60: ABS도어 (슬라이딩) | D60: 1000*2300, 지정 방염필름 | E60: EA | F60: 2 | H60: =G60*F60 -> 0 | J60: =I60*F60 -> 0 | L60: =+TRUNC(F60*K60) -> 0 | M60: =G60+I60+K60 -> 0 | N60: =H60+J60+L60 -> 0
C61: 도어후레임 (슬라이딩) | D61: 1000*2300, 지정 방염필름 | E61: EA | F61: 2 | H61: =G61*F61 -> 0 | J61: =I61*F61 -> 0 | L61: =+TRUNC(F61*K61) -> 0 | M61: =G61+I61+K61 -> 0 | N61: =H61+J61+L61 -> 0
A62: 010111 | B62: Z1230001117 | C62: 벽체도배 | D62: 제품명 기입 / 방염 / 초배포함 | E62: ㎡ | F62: =((2.3*2.7)*4)+((1.6*2.7)*2) -> 33.48 | H62: =G62*F62 -> 0 | J62: =I62*F62 -> 0 | L62: =+TRUNC(F62*K62) -> 0 | M62: =G62+I62+K62 -> 0 | N62: =H62+J62+L62 -> 0
C63: 내부 걸레받이 (PVC, 금속류 지정) | D63: H:40, 마감 포함 | E63: M | F63: =((1.6*2)+(2.3*2))*2 -> 15.6 | H63: =G63*F63 -> 0 | J63: =I63*F63 -> 0 | L63: =+TRUNC(F63*K63) -> 0 | M63: =G63+I63+K63 -> 0 | N63: =H63+J63+L63 -> 0
C64: * 바닥
A65: 010111 | B65: Z1230001117 | C65: PVC 타일 | D65: 제품명 기입 / 450*450 / 왁스 포함 | E65: ㎡ | F65: 7 | H65: =G65*F65 -> 0 | J65: =I65*F65 -> 0 | L65: =+TRUNC(F65*K65) -> 0 | M65: =G65+I65+K65 -> 0 | N65: =H65+J65+L65 -> 0
A66: 010111 | B66: Z1230001136 | C66: 수평모르타르 (셀프레벨링) | D66: T=5 이하 | E66: ㎡ | F66: 7 | H66: =G66*F66 -> 0 | J66: =I66*F66 -> 0 | L66: =+TRUNC(F66*K66) -> 0 | M66: =G66+I66+K66 -> 0 | N66: =H66+J66+L66 -> 0
C67: 단채움+금속 재료분리대 | D67: 수평몰탈, L자 SUS | E67: M | F67: 2 | H67: =G67*F67 -> 0 | J67: =I67*F67 -> 0 | L67: =+TRUNC(F67*K67) -> 0 | M67: =G67+I67+K67 -> 0 | N67: =H67+J67+L67 -> 0
C68: [ 소 계 ] | H68: =SUM(H55:H67) -> 0 | J68: =SUM(J56:J67) -> 0 | L68: =SUM(L67:L67) -> 0 | N68: =H68+J68+L68 -> 0
C69: [MRI센터-탈의 남,녀 화장실]
C70: * 천정
A71: 010111 | B71: Z1230001117 | C71: 친환경 도장 마감 | D71: 내부, 2회 1급 '석고보드면 올퍼티 | E71: ㎡ | F71: 7 | H71: =G71*F71 -> 0 | J71: =I71*F71 -> 0 | L71: =+TRUNC(F71*K71) -> 0 | M71: =G71+I71+K71 -> 0 | N71: =H71+J71+L71 -> 0
C72: 매입등 | D72: LED 확산형 다운라이트 6" / 주백색 / KS | E72: EA | F72: 4 | H72: =G72*F72 -> 0 | J72: =I72*F72 -> 0 | L72: =+TRUNC(F72*K72) -> 0 | M72: =G72+I72+K72 -> 0 | N72: =H72+J72+L72 -> 0
C73: * 벽체
A74: 010111 | B74: Z1230001117 | C74: ABS도어 (슬라이딩) | D74: 1000*2300, 지정 방염필름 | E74: EA | F74: 2 | H74: =G74*F74 -> 0 | J74: =I74*F74 -> 0 | L74: =+TRUNC(F74*K74) -> 0 | M74: =G74+I74+K74 -> 0 | N74: =H74+J74+L74 -> 0
C75: 도어후레임 (슬라이딩) | D75: 1000*2300, 지정 방염필름 | E75: EA | F75: 2 | H75: =G75*F75 -> 0 | J75: =I75*F75 -> 0 | M75: =G75+I75+K75 -> 0 | N75: =H75+J75+L75 -> 0
A76: 010111 | B76: Z1230001117 | C76: 화장실 벽타일 | D76: 지정제품 / 300*600 | E76: ㎡ | F76: =(((2.3*2.7)*2)+(0.8*2.7))*2 -> 29.16 | H76: =G76*F76 -> 0 | J76: =I76*F76 -> 0 | L76: =+TRUNC(F76*K76) -> 0 | M76: =G76+I76+K76 -> 0 | N76: =H76+J76+L76 -> 0
A77: 010111 | B77: Z1230001117 | C77: 타일부자재 | D77: 압착,백시멘트,케라폭시 메지 등 | E77: ㎡ | F77: =(((2.3*2.7)*2)+(0.8*2.7))*2 -> 29.16 | H77: =G77*F77 -> 0 | J77: =I77*F77 -> 0 | L77: =+TRUNC(F77*K77) -> 0 | M77: =G77+I77+K77 -> 0 | N77: =H77+J77+L77 -> 0
C78: * 바닥
A79: 010111 | B79: Z1230001117 | C79: 화장실 바닥타일 | D79: 지정제품 / 300*600 | E79: ㎡ | F79: 7 | H79: =G79*F79 -> 0 | J79: =I79*F79 -> 0 | L79: =+TRUNC(F79*K79) -> 0 | M79: =G79+I79+K79 -> 0 | N79: =H79+J79+L79 -> 0
A80: 010111 | B80: Z1230001117 | C80: 타일부자재 | D80: 압착,백시멘트,케라폭시 메지 등 | E80: ㎡ | F80: 7 | H80: =G80*F80 -> 0 | J80: =I80*F80 -> 0 | L80: =+TRUNC(F80*K80) -> 0 | M80: =G80+I80+K80 -> 0 | N80: =H80+J80+L80 -> 0
C81: * 제작가구
A82: 010111 | B82: Z1230001117 | C82: 세면대 하부장 | D82: 800*500(현장 실측) | E82: EA | F82: 2 | H82: =G82*F82 -> 0 | J82: =I82*F82 -> 0 | L82: =+TRUNC(F82*K82) -> 0 | M82: =G82+I82+K82 -> 0 | N82: =H82+J82+L82 -> 0
C83: * 기타
C84: 화장실 세면거울 | D84: 비규격 은경 5T | E84: EA | F84: 2 | H84: =G84*F84 -> 0 | J84: =I84*F84 -> 0 | M84: =G84+I84+K84 -> 0 | N84: =H84+J84+L84 -> 0 | O84: 수량정산
A85: 010111 | B85: Z1230001117 | C85: 양변기 | D85: 대림바스 | E85: EA | F85: 2 | H85: =G85*F85 -> 0 | J85: =I85*F85 -> 0 | L85: =+TRUNC(F85*K85) -> 0 | M85: =G85+I85+K85 -> 0 | N85: =H85+J85+L85 -> 0 | O85: 수량정산
A86: 010111 | B86: Z1230001117 | C86: 언더볼 | D86: 대림바스 | E86: EA | F86: 2 | H86: =G86*F86 -> 0 | J86: =I86*F86 -> 0 | L86: =+TRUNC(F86*K86) -> 0 | M86: =G86+I86+K86 -> 0 | N86: =H86+J86+L86 -> 0 | O86: 수량정산
A87: 010111 | B87: Z1230001117 | C87: 언더볼세면수전 | D87: 대림바스 | E87: EA | F87: 2 | H87: =G87*F87 -> 0 | J87: =I87*F87 -> 0 | L87: =+TRUNC(F87*K87) -> 0 | M87: =G87+I87+K87 -> 0 | N87: =H87+J87+L87 -> 0 | O87: 수량정산
C88: [ 소 계 ] | H88: =SUM(H70:H87) -> 0 | J88: =SUM(J70:J87) -> 0 | L88: =SUM(L87:L87) -> 0 | N88: =H88+J88+L88 -> 0
C89: [MRI센터-회복 및 준비실]
C90: * 천정
A91: 010111 | B91: Z1230001117 | C91: 친환경 도장 마감 | D91: 내부, 2회 1급 '석고보드면 올퍼티 | E91: ㎡ | F91: =9.8 -> 9.8 | H91: =G91*F91 -> 0 | J91: =I91*F91 -> 0 | L91: =+TRUNC(F91*K91) -> 0 | M91: =G91+I91+K91 -> 0 | N91: =H91+J91+L91 -> 0
C92: 매입등 | D92: LED 확산형 다운라이트 6" / 주백색 / KS | E92: EA | F92: 6 | H92: =G92*F92 -> 0 | J92: =I92*F92 -> 0 | L92: =+TRUNC(F92*K92) -> 0 | M92: =G92+I92+K92 -> 0 | N92: =H92+J92+L92 -> 0
C93: * 벽체
A94: 010111 | B94: Z1230001117 | C94: ABS도어 (슬라이딩) | D94: 1000*2300, 지정 방염필름 | E94: EA | F94: 1 | H94: =G94*F94 -> 0 | J94: =I94*F94 -> 0 | L94: =+TRUNC(F94*K94) -> 0 | M94: =G94+I94+K94 -> 0 | N94: =H94+J94+L94 -> 0
C95: 도어후레임 (슬라이딩) | D95: 1000*2300, 지정 방염필름 | E95: EA | F95: 1 | H95: =G95*F95 -> 0 | J95: =I95*F95 -> 0 | M95: =G95+I95+K95 -> 0 | N95: =H95+J95+L95 -> 0
A96: 010111 | B96: Z1230001117 | C96: 도배 마감 | D96: 지정 방염벽지, 초배포함 | E96: ㎡ | F96: =((4*2.7)+(2.5*2.7))*2 -> 35.1 | H96: =G96*F96 -> 0 | J96: =I96*F96 -> 0 | L96: =+TRUNC(F96*K96) -> 0 | M96: =G96+I96+K96 -> 0 | N96: =H96+J96+L96 -> 0
C97: 내부 걸레받이 (PVC, 금속류 지정) | D97: H:40, 마감 포함 | E97: M | F97: =(2.5*2)+(4*2) -> 13 | H97: =G97*F97 -> 0 | J97: =I97*F97 -> 0 | L97: =+TRUNC(F97*K97) -> 0 | M97: =G97+I97+K97 -> 0 | N97: =H97+J97+L97 -> 0
C98: * 바닥
A99: 010111 | B99: Z1230001117 | C99: PVC 타일 | D99: 제품명 기입 / 450*450 / 왁스 포함 | E99: ㎡ | F99: 10 | H99: =G99*F99 -> 0 | J99: =I99*F99 -> 0 | L99: =+TRUNC(F99*K99) -> 0 | M99: =G99+I99+K99 -> 0 | N99: =H99+J99+L99 -> 0
A100: 010111 | B100: Z1230001136 | C100: 수평모르타르 (셀프레벨링) | D100: T=5 이하 | E100: ㎡ | F100: 10 | H100: =G100*F100 -> 0 | J100: =I100*F100 -> 0 | L100: =+TRUNC(F100*K100) -> 0 | M100: =G100+I100+K100 -> 0 | N100: =H100+J100+L100 -> 0
...
